BEGIN:VCALENDAR
VERSION:2.0
PRODID:spatie/icalendar-generator
DESCRIPTION:Events from US Martial Arts Academy - Kempo Karate\, Jiu Jitsu 
 and Cardio Kickboxing
X-WR-CALDESC:Events from US Martial Arts Academy - Kempo Karate\, Jiu Jitsu
  and Cardio Kickboxing
REFRESH-INTERVAL;VALUE=DURATION:PT1440M
X-PUBLISHED-TTL:PT1440M
BEGIN:VTIMEZONE
TZID:America/New_York
BEGIN:STANDARD
DTSTART:20251102T020000Z
TZOFFSETFROM:-0400
TZOFFSETTO:-0500
END:STANDARD
BEGIN:DAYLIGHT
DTSTART:20260308T020000Z
TZOFFSETFROM:-0500
TZOFFSETTO:-0400
END:DAYLIGHT
BEGIN:STANDARD
DTSTART:20261101T020000Z
TZOFFSETFROM:-0400
TZOFFSETTO:-0500
END:STANDARD
END:VTIMEZONE
BEGIN:VTIMEZONE
TZID:UTC
BEGIN:STANDARD
DTSTART:20250728T173207Z
TZOFFSETFROM:+0000
TZOFFSETTO:+0000
END:STANDARD
END:VTIMEZONE
BEGIN:VEVENT
UID:1227-9
DTSTAMP:20260424T173207Z
SUMMARY:Youth (Blue-Black)
LOCATION:US Martial Arts Academy 834 Ohio Pike  Cincinnati OH 45245
ORGANIZER;CN=testerusmaa:MAILTO:testerda@roadrunner.com
RRULE:FREQ=WEEKLY;UNTIL=20261008T000000Z
DTSTART;TZID=America/New_York:20260430T190000
DTEND;TZID=America/New_York:20260430T194500
X-ALT-DESC;FMTTYPE=TEXT/HTML:
CATEGORIES:Youth (Blue-Black)
URL;VALUE=URI:https://usmartialartsacademy.com/mc-events/youth-blue-black-3
 /?mc_id=1227
METHOD:PUBLISH
END:VEVENT
END:VCALENDAR