BEGIN:VCALENDAR
VERSION:2.0
PRODID:spatie/icalendar-generator
DESCRIPTION:Events from US Martial Arts Academy - Kempo Karate\, Jiu Jitsu 
 and Cardio Kickboxing
X-WR-CALDESC:Events from US Martial Arts Academy - Kempo Karate\, Jiu Jitsu
  and Cardio Kickboxing
REFRESH-INTERVAL;VALUE=DURATION:PT1440M
X-PUBLISHED-TTL:PT1440M
BEGIN:VTIMEZONE
TZID:America/New_York
BEGIN:STANDARD
DTSTART:20251102T020000Z
TZOFFSETFROM:-0400
TZOFFSETTO:-0500
END:STANDARD
BEGIN:DAYLIGHT
DTSTART:20260308T020000Z
TZOFFSETFROM:-0500
TZOFFSETTO:-0400
END:DAYLIGHT
END:VTIMEZONE
BEGIN:VTIMEZONE
TZID:UTC
BEGIN:STANDARD
DTSTART:20250728T173351Z
TZOFFSETFROM:+0000
TZOFFSETTO:+0000
END:STANDARD
END:VTIMEZONE
BEGIN:VEVENT
UID:5936-46
DTSTAMP:20260424T173351Z
SUMMARY:No GI BJJ-Please call or see Facebook for times.
LOCATION:
ORGANIZER;CN=USMAA Staff:MAILTO:usmaaoffice@gmail.com
RRULE:FREQ=WEEKLY;UNTIL=20340528T000000Z
DTSTART;TZID=America/New_York;VALUE=DATE:20260424
DTEND;TZID=America/New_York;VALUE=DATE:20260425
X-ALT-DESC;FMTTYPE=TEXT/HTML:
CATEGORIES:Brazilian Jiu-Jitsu
URL;VALUE=URI:https://usmartialartsacademy.com/mc-events/no-gi-bjj-please-c
 all-or-see-facebook-for-times/?mc_id=5936
METHOD:PUBLISH
END:VEVENT
END:VCALENDAR