BEGIN:VCALENDAR
VERSION:2.0
PRODID:spatie/icalendar-generator
DESCRIPTION:Events from US Martial Arts Academy - Kempo Karate\, Jiu Jitsu 
 and Cardio Kickboxing
X-WR-CALDESC:Events from US Martial Arts Academy - Kempo Karate\, Jiu Jitsu
  and Cardio Kickboxing
REFRESH-INTERVAL;VALUE=DURATION:PT1440M
X-PUBLISHED-TTL:PT1440M
BEGIN:VTIMEZONE
TZID:America/New_York
BEGIN:DAYLIGHT
DTSTART:20230312T020000Z
TZOFFSETFROM:-0500
TZOFFSETTO:-0400
END:DAYLIGHT
BEGIN:STANDARD
DTSTART:20231105T020000Z
TZOFFSETFROM:-0400
TZOFFSETTO:-0500
END:STANDARD
BEGIN:DAYLIGHT
DTSTART:20240310T020000Z
TZOFFSETFROM:-0500
TZOFFSETTO:-0400
END:DAYLIGHT
END:VTIMEZONE
BEGIN:VTIMEZONE
TZID:UTC
BEGIN:STANDARD
DTSTART:20250728T205827Z
TZOFFSETFROM:+0000
TZOFFSETTO:+0000
END:STANDARD
END:VTIMEZONE
BEGIN:VEVENT
UID:3971-29
DTSTAMP:20260424T205827Z
SUMMARY:Adult Belt Testing
LOCATION:US Martial Arts Academy 834 Ohio Pike  Cincinnati OH 45245
ORGANIZER;CN=testerusmaa:MAILTO:testerda@roadrunner.com
RRULE:FREQ=MONTHLY;BYDAY=4FR;UNTIL=20261030T000000Z
DTSTART;TZID=America/New_York:20231027T194500
DTEND;TZID=America/New_York:20231027T204500
X-ALT-DESC;FMTTYPE=TEXT/HTML:
CATEGORIES:Belt Testing
URL;VALUE=URI:https://usmartialartsacademy.com/mc-events/adult-belt-testing
 /?mc_id=3971
METHOD:PUBLISH
END:VEVENT
END:VCALENDAR